BEGIN:VCALENDAR
VERSION:2.0
PRODID:-//Passos e Compassos - ECPv6.15.14//NONSGML v1.0//EN
CALSCALE:GREGORIAN
METHOD:PUBLISH
X-ORIGINAL-URL:https://passosecompassos.pt
X-WR-CALDESC:Eventos para Passos e Compassos
REFRESH-INTERVAL;VALUE=DURATION:PT1H
X-Robots-Tag:noindex
X-PUBLISHED-TTL:PT1H
BEGIN:VTIMEZONE
TZID:Europe/Lisbon
BEGIN:DAYLIGHT
TZOFFSETFROM:+0000
TZOFFSETTO:+0100
TZNAME:WEST
DTSTART:20170326T010000
END:DAYLIGHT
BEGIN:STANDARD
TZOFFSETFROM:+0100
TZOFFSETTO:+0000
TZNAME:WET
DTSTART:20171029T010000
END:STANDARD
BEGIN:DAYLIGHT
TZOFFSETFROM:+0000
TZOFFSETTO:+0100
TZNAME:WEST
DTSTART:20180325T010000
END:DAYLIGHT
BEGIN:STANDARD
TZOFFSETFROM:+0100
TZOFFSETTO:+0000
TZNAME:WET
DTSTART:20181028T010000
END:STANDARD
BEGIN:DAYLIGHT
TZOFFSETFROM:+0000
TZOFFSETTO:+0100
TZNAME:WEST
DTSTART:20190331T010000
END:DAYLIGHT
BEGIN:STANDARD
TZOFFSETFROM:+0100
TZOFFSETTO:+0000
TZNAME:WET
DTSTART:20191027T010000
END:STANDARD
END:VTIMEZONE
BEGIN:VEVENT
DTSTART;TZID=Europe/Lisbon:20180101T140000
DTEND;TZID=Europe/Lisbon:20180101T150000
DTSTAMP:20260420T150600
CREATED:20250804T212046Z
LAST-MODIFIED:20250804T212046Z
UID:10084387-1514815200-1514818800@passosecompassos.pt
SUMMARY:CLIP CLAP
DESCRIPTION:Dirigido à Comunidade Educativa \n1º Ciclo
URL:https://passosecompassos.pt/data/clip-clap/2018-01-01/
LOCATION:Cine Teatro S. João\, Palmela\, Largo São João Baptista\, Palmela\, 2950-204\, Portugal
CATEGORIES:Semana(s) da Dança 2017
ATTACH;FMTTYPE=image/jpeg:https://passosecompassos.pt/wp-content/uploads/2017/10/ClipClap_ImagemDivulgaçaoWeb_72dpi.jpg
GEO:38.5714422;-8.9020724
X-APPLE-STRUCTURED-LOCATION;VALUE=URI;X-ADDRESS=Cine Teatro S. João Palmela Largo São João Baptista Palmela 2950-204 Portugal;X-APPLE-RADIUS=500;X-TITLE=Largo São João Baptista:geo:-8.9020724,38.5714422
END:VEVENT
BEGIN:VEVENT
DTSTART;TZID=Europe/Lisbon:20180102T140000
DTEND;TZID=Europe/Lisbon:20180102T150000
DTSTAMP:20260420T150600
CREATED:20250804T212046Z
LAST-MODIFIED:20250804T212046Z
UID:10084388-1514901600-1514905200@passosecompassos.pt
SUMMARY:CLIP CLAP
DESCRIPTION:Dirigido à Comunidade Educativa \n1º Ciclo
URL:https://passosecompassos.pt/data/clip-clap/2018-01-02/
LOCATION:Cine Teatro S. João\, Palmela\, Largo São João Baptista\, Palmela\, 2950-204\, Portugal
CATEGORIES:Semana(s) da Dança 2017
ATTACH;FMTTYPE=image/jpeg:https://passosecompassos.pt/wp-content/uploads/2017/10/ClipClap_ImagemDivulgaçaoWeb_72dpi.jpg
GEO:38.5714422;-8.9020724
X-APPLE-STRUCTURED-LOCATION;VALUE=URI;X-ADDRESS=Cine Teatro S. João Palmela Largo São João Baptista Palmela 2950-204 Portugal;X-APPLE-RADIUS=500;X-TITLE=Largo São João Baptista:geo:-8.9020724,38.5714422
END:VEVENT
BEGIN:VEVENT
DTSTART;TZID=Europe/Lisbon:20180103T140000
DTEND;TZID=Europe/Lisbon:20180103T150000
DTSTAMP:20260420T150600
CREATED:20250804T212046Z
LAST-MODIFIED:20250804T212046Z
UID:10084389-1514988000-1514991600@passosecompassos.pt
SUMMARY:CLIP CLAP
DESCRIPTION:Dirigido à Comunidade Educativa \n1º Ciclo
URL:https://passosecompassos.pt/data/clip-clap/2018-01-03/
LOCATION:Cine Teatro S. João\, Palmela\, Largo São João Baptista\, Palmela\, 2950-204\, Portugal
CATEGORIES:Semana(s) da Dança 2017
ATTACH;FMTTYPE=image/jpeg:https://passosecompassos.pt/wp-content/uploads/2017/10/ClipClap_ImagemDivulgaçaoWeb_72dpi.jpg
GEO:38.5714422;-8.9020724
X-APPLE-STRUCTURED-LOCATION;VALUE=URI;X-ADDRESS=Cine Teatro S. João Palmela Largo São João Baptista Palmela 2950-204 Portugal;X-APPLE-RADIUS=500;X-TITLE=Largo São João Baptista:geo:-8.9020724,38.5714422
END:VEVENT
BEGIN:VEVENT
DTSTART;TZID=Europe/Lisbon:20180104T140000
DTEND;TZID=Europe/Lisbon:20180104T150000
DTSTAMP:20260420T150600
CREATED:20250804T212046Z
LAST-MODIFIED:20250804T212046Z
UID:10084390-1515074400-1515078000@passosecompassos.pt
SUMMARY:CLIP CLAP
DESCRIPTION:Dirigido à Comunidade Educativa \n1º Ciclo
URL:https://passosecompassos.pt/data/clip-clap/2018-01-04/
LOCATION:Cine Teatro S. João\, Palmela\, Largo São João Baptista\, Palmela\, 2950-204\, Portugal
CATEGORIES:Semana(s) da Dança 2017
ATTACH;FMTTYPE=image/jpeg:https://passosecompassos.pt/wp-content/uploads/2017/10/ClipClap_ImagemDivulgaçaoWeb_72dpi.jpg
GEO:38.5714422;-8.9020724
X-APPLE-STRUCTURED-LOCATION;VALUE=URI;X-ADDRESS=Cine Teatro S. João Palmela Largo São João Baptista Palmela 2950-204 Portugal;X-APPLE-RADIUS=500;X-TITLE=Largo São João Baptista:geo:-8.9020724,38.5714422
END:VEVENT
BEGIN:VEVENT
DTSTART;TZID=Europe/Lisbon:20180105T140000
DTEND;TZID=Europe/Lisbon:20180105T150000
DTSTAMP:20260420T150600
CREATED:20250804T212046Z
LAST-MODIFIED:20250804T212046Z
UID:10084391-1515160800-1515164400@passosecompassos.pt
SUMMARY:CLIP CLAP
DESCRIPTION:Dirigido à Comunidade Educativa \n1º Ciclo
URL:https://passosecompassos.pt/data/clip-clap/2018-01-05/
LOCATION:Cine Teatro S. João\, Palmela\, Largo São João Baptista\, Palmela\, 2950-204\, Portugal
CATEGORIES:Semana(s) da Dança 2017
ATTACH;FMTTYPE=image/jpeg:https://passosecompassos.pt/wp-content/uploads/2017/10/ClipClap_ImagemDivulgaçaoWeb_72dpi.jpg
GEO:38.5714422;-8.9020724
X-APPLE-STRUCTURED-LOCATION;VALUE=URI;X-ADDRESS=Cine Teatro S. João Palmela Largo São João Baptista Palmela 2950-204 Portugal;X-APPLE-RADIUS=500;X-TITLE=Largo São João Baptista:geo:-8.9020724,38.5714422
END:VEVENT
BEGIN:VEVENT
DTSTART;TZID=Europe/Lisbon:20180106T140000
DTEND;TZID=Europe/Lisbon:20180106T150000
DTSTAMP:20260420T150600
CREATED:20250804T212046Z
LAST-MODIFIED:20250804T212046Z
UID:10084392-1515247200-1515250800@passosecompassos.pt
SUMMARY:CLIP CLAP
DESCRIPTION:Dirigido à Comunidade Educativa \n1º Ciclo
URL:https://passosecompassos.pt/data/clip-clap/2018-01-06/
LOCATION:Cine Teatro S. João\, Palmela\, Largo São João Baptista\, Palmela\, 2950-204\, Portugal
CATEGORIES:Semana(s) da Dança 2017
ATTACH;FMTTYPE=image/jpeg:https://passosecompassos.pt/wp-content/uploads/2017/10/ClipClap_ImagemDivulgaçaoWeb_72dpi.jpg
GEO:38.5714422;-8.9020724
X-APPLE-STRUCTURED-LOCATION;VALUE=URI;X-ADDRESS=Cine Teatro S. João Palmela Largo São João Baptista Palmela 2950-204 Portugal;X-APPLE-RADIUS=500;X-TITLE=Largo São João Baptista:geo:-8.9020724,38.5714422
END:VEVENT
BEGIN:VEVENT
DTSTART;TZID=Europe/Lisbon:20180107T140000
DTEND;TZID=Europe/Lisbon:20180107T150000
DTSTAMP:20260420T150600
CREATED:20250804T212046Z
LAST-MODIFIED:20250804T212046Z
UID:10084393-1515333600-1515337200@passosecompassos.pt
SUMMARY:CLIP CLAP
DESCRIPTION:Dirigido à Comunidade Educativa \n1º Ciclo
URL:https://passosecompassos.pt/data/clip-clap/2018-01-07/
LOCATION:Cine Teatro S. João\, Palmela\, Largo São João Baptista\, Palmela\, 2950-204\, Portugal
CATEGORIES:Semana(s) da Dança 2017
ATTACH;FMTTYPE=image/jpeg:https://passosecompassos.pt/wp-content/uploads/2017/10/ClipClap_ImagemDivulgaçaoWeb_72dpi.jpg
GEO:38.5714422;-8.9020724
X-APPLE-STRUCTURED-LOCATION;VALUE=URI;X-ADDRESS=Cine Teatro S. João Palmela Largo São João Baptista Palmela 2950-204 Portugal;X-APPLE-RADIUS=500;X-TITLE=Largo São João Baptista:geo:-8.9020724,38.5714422
END:VEVENT
BEGIN:VEVENT
DTSTART;TZID=Europe/Lisbon:20180108T140000
DTEND;TZID=Europe/Lisbon:20180108T150000
DTSTAMP:20260420T150600
CREATED:20250804T212046Z
LAST-MODIFIED:20250804T212046Z
UID:10084394-1515420000-1515423600@passosecompassos.pt
SUMMARY:CLIP CLAP
DESCRIPTION:Dirigido à Comunidade Educativa \n1º Ciclo
URL:https://passosecompassos.pt/data/clip-clap/2018-01-08/
LOCATION:Cine Teatro S. João\, Palmela\, Largo São João Baptista\, Palmela\, 2950-204\, Portugal
CATEGORIES:Semana(s) da Dança 2017
ATTACH;FMTTYPE=image/jpeg:https://passosecompassos.pt/wp-content/uploads/2017/10/ClipClap_ImagemDivulgaçaoWeb_72dpi.jpg
GEO:38.5714422;-8.9020724
X-APPLE-STRUCTURED-LOCATION;VALUE=URI;X-ADDRESS=Cine Teatro S. João Palmela Largo São João Baptista Palmela 2950-204 Portugal;X-APPLE-RADIUS=500;X-TITLE=Largo São João Baptista:geo:-8.9020724,38.5714422
END:VEVENT
BEGIN:VEVENT
DTSTART;TZID=Europe/Lisbon:20180109T140000
DTEND;TZID=Europe/Lisbon:20180109T150000
DTSTAMP:20260420T150600
CREATED:20250804T212046Z
LAST-MODIFIED:20250804T212046Z
UID:10084395-1515506400-1515510000@passosecompassos.pt
SUMMARY:CLIP CLAP
DESCRIPTION:Dirigido à Comunidade Educativa \n1º Ciclo
URL:https://passosecompassos.pt/data/clip-clap/2018-01-09/
LOCATION:Cine Teatro S. João\, Palmela\, Largo São João Baptista\, Palmela\, 2950-204\, Portugal
CATEGORIES:Semana(s) da Dança 2017
ATTACH;FMTTYPE=image/jpeg:https://passosecompassos.pt/wp-content/uploads/2017/10/ClipClap_ImagemDivulgaçaoWeb_72dpi.jpg
GEO:38.5714422;-8.9020724
X-APPLE-STRUCTURED-LOCATION;VALUE=URI;X-ADDRESS=Cine Teatro S. João Palmela Largo São João Baptista Palmela 2950-204 Portugal;X-APPLE-RADIUS=500;X-TITLE=Largo São João Baptista:geo:-8.9020724,38.5714422
END:VEVENT
BEGIN:VEVENT
DTSTART;TZID=Europe/Lisbon:20180110T140000
DTEND;TZID=Europe/Lisbon:20180110T150000
DTSTAMP:20260420T150600
CREATED:20250804T212046Z
LAST-MODIFIED:20250804T212046Z
UID:10084396-1515592800-1515596400@passosecompassos.pt
SUMMARY:CLIP CLAP
DESCRIPTION:Dirigido à Comunidade Educativa \n1º Ciclo
URL:https://passosecompassos.pt/data/clip-clap/2018-01-10/
LOCATION:Cine Teatro S. João\, Palmela\, Largo São João Baptista\, Palmela\, 2950-204\, Portugal
CATEGORIES:Semana(s) da Dança 2017
ATTACH;FMTTYPE=image/jpeg:https://passosecompassos.pt/wp-content/uploads/2017/10/ClipClap_ImagemDivulgaçaoWeb_72dpi.jpg
GEO:38.5714422;-8.9020724
X-APPLE-STRUCTURED-LOCATION;VALUE=URI;X-ADDRESS=Cine Teatro S. João Palmela Largo São João Baptista Palmela 2950-204 Portugal;X-APPLE-RADIUS=500;X-TITLE=Largo São João Baptista:geo:-8.9020724,38.5714422
END:VEVENT
BEGIN:VEVENT
DTSTART;TZID=Europe/Lisbon:20180111T140000
DTEND;TZID=Europe/Lisbon:20180111T150000
DTSTAMP:20260420T150600
CREATED:20250804T212046Z
LAST-MODIFIED:20250804T212046Z
UID:10084397-1515679200-1515682800@passosecompassos.pt
SUMMARY:CLIP CLAP
DESCRIPTION:Dirigido à Comunidade Educativa \n1º Ciclo
URL:https://passosecompassos.pt/data/clip-clap/2018-01-11/
LOCATION:Cine Teatro S. João\, Palmela\, Largo São João Baptista\, Palmela\, 2950-204\, Portugal
CATEGORIES:Semana(s) da Dança 2017
ATTACH;FMTTYPE=image/jpeg:https://passosecompassos.pt/wp-content/uploads/2017/10/ClipClap_ImagemDivulgaçaoWeb_72dpi.jpg
GEO:38.5714422;-8.9020724
X-APPLE-STRUCTURED-LOCATION;VALUE=URI;X-ADDRESS=Cine Teatro S. João Palmela Largo São João Baptista Palmela 2950-204 Portugal;X-APPLE-RADIUS=500;X-TITLE=Largo São João Baptista:geo:-8.9020724,38.5714422
END:VEVENT
BEGIN:VEVENT
DTSTART;TZID=Europe/Lisbon:20180112T140000
DTEND;TZID=Europe/Lisbon:20180112T150000
DTSTAMP:20260420T150600
CREATED:20250804T212046Z
LAST-MODIFIED:20250804T212046Z
UID:10084398-1515765600-1515769200@passosecompassos.pt
SUMMARY:CLIP CLAP
DESCRIPTION:Dirigido à Comunidade Educativa \n1º Ciclo
URL:https://passosecompassos.pt/data/clip-clap/2018-01-12/
LOCATION:Cine Teatro S. João\, Palmela\, Largo São João Baptista\, Palmela\, 2950-204\, Portugal
CATEGORIES:Semana(s) da Dança 2017
ATTACH;FMTTYPE=image/jpeg:https://passosecompassos.pt/wp-content/uploads/2017/10/ClipClap_ImagemDivulgaçaoWeb_72dpi.jpg
GEO:38.5714422;-8.9020724
X-APPLE-STRUCTURED-LOCATION;VALUE=URI;X-ADDRESS=Cine Teatro S. João Palmela Largo São João Baptista Palmela 2950-204 Portugal;X-APPLE-RADIUS=500;X-TITLE=Largo São João Baptista:geo:-8.9020724,38.5714422
END:VEVENT
BEGIN:VEVENT
DTSTART;TZID=Europe/Lisbon:20180113T140000
DTEND;TZID=Europe/Lisbon:20180113T150000
DTSTAMP:20260420T150600
CREATED:20250804T212046Z
LAST-MODIFIED:20250804T212046Z
UID:10084399-1515852000-1515855600@passosecompassos.pt
SUMMARY:CLIP CLAP
DESCRIPTION:Dirigido à Comunidade Educativa \n1º Ciclo
URL:https://passosecompassos.pt/data/clip-clap/2018-01-13/
LOCATION:Cine Teatro S. João\, Palmela\, Largo São João Baptista\, Palmela\, 2950-204\, Portugal
CATEGORIES:Semana(s) da Dança 2017
ATTACH;FMTTYPE=image/jpeg:https://passosecompassos.pt/wp-content/uploads/2017/10/ClipClap_ImagemDivulgaçaoWeb_72dpi.jpg
GEO:38.5714422;-8.9020724
X-APPLE-STRUCTURED-LOCATION;VALUE=URI;X-ADDRESS=Cine Teatro S. João Palmela Largo São João Baptista Palmela 2950-204 Portugal;X-APPLE-RADIUS=500;X-TITLE=Largo São João Baptista:geo:-8.9020724,38.5714422
END:VEVENT
BEGIN:VEVENT
DTSTART;TZID=Europe/Lisbon:20180114T140000
DTEND;TZID=Europe/Lisbon:20180114T150000
DTSTAMP:20260420T150600
CREATED:20250804T212046Z
LAST-MODIFIED:20250804T212046Z
UID:10084400-1515938400-1515942000@passosecompassos.pt
SUMMARY:CLIP CLAP
DESCRIPTION:Dirigido à Comunidade Educativa \n1º Ciclo
URL:https://passosecompassos.pt/data/clip-clap/2018-01-14/
LOCATION:Cine Teatro S. João\, Palmela\, Largo São João Baptista\, Palmela\, 2950-204\, Portugal
CATEGORIES:Semana(s) da Dança 2017
ATTACH;FMTTYPE=image/jpeg:https://passosecompassos.pt/wp-content/uploads/2017/10/ClipClap_ImagemDivulgaçaoWeb_72dpi.jpg
GEO:38.5714422;-8.9020724
X-APPLE-STRUCTURED-LOCATION;VALUE=URI;X-ADDRESS=Cine Teatro S. João Palmela Largo São João Baptista Palmela 2950-204 Portugal;X-APPLE-RADIUS=500;X-TITLE=Largo São João Baptista:geo:-8.9020724,38.5714422
END:VEVENT
BEGIN:VEVENT
DTSTART;TZID=Europe/Lisbon:20180115T140000
DTEND;TZID=Europe/Lisbon:20180115T150000
DTSTAMP:20260420T150600
CREATED:20250804T212046Z
LAST-MODIFIED:20250804T212046Z
UID:10084401-1516024800-1516028400@passosecompassos.pt
SUMMARY:CLIP CLAP
DESCRIPTION:Dirigido à Comunidade Educativa \n1º Ciclo
URL:https://passosecompassos.pt/data/clip-clap/2018-01-15/
LOCATION:Cine Teatro S. João\, Palmela\, Largo São João Baptista\, Palmela\, 2950-204\, Portugal
CATEGORIES:Semana(s) da Dança 2017
ATTACH;FMTTYPE=image/jpeg:https://passosecompassos.pt/wp-content/uploads/2017/10/ClipClap_ImagemDivulgaçaoWeb_72dpi.jpg
GEO:38.5714422;-8.9020724
X-APPLE-STRUCTURED-LOCATION;VALUE=URI;X-ADDRESS=Cine Teatro S. João Palmela Largo São João Baptista Palmela 2950-204 Portugal;X-APPLE-RADIUS=500;X-TITLE=Largo São João Baptista:geo:-8.9020724,38.5714422
END:VEVENT
BEGIN:VEVENT
DTSTART;TZID=Europe/Lisbon:20180116T140000
DTEND;TZID=Europe/Lisbon:20180116T150000
DTSTAMP:20260420T150600
CREATED:20250804T212046Z
LAST-MODIFIED:20250804T212046Z
UID:10084402-1516111200-1516114800@passosecompassos.pt
SUMMARY:CLIP CLAP
DESCRIPTION:Dirigido à Comunidade Educativa \n1º Ciclo
URL:https://passosecompassos.pt/data/clip-clap/2018-01-16/
LOCATION:Cine Teatro S. João\, Palmela\, Largo São João Baptista\, Palmela\, 2950-204\, Portugal
CATEGORIES:Semana(s) da Dança 2017
ATTACH;FMTTYPE=image/jpeg:https://passosecompassos.pt/wp-content/uploads/2017/10/ClipClap_ImagemDivulgaçaoWeb_72dpi.jpg
GEO:38.5714422;-8.9020724
X-APPLE-STRUCTURED-LOCATION;VALUE=URI;X-ADDRESS=Cine Teatro S. João Palmela Largo São João Baptista Palmela 2950-204 Portugal;X-APPLE-RADIUS=500;X-TITLE=Largo São João Baptista:geo:-8.9020724,38.5714422
END:VEVENT
BEGIN:VEVENT
DTSTART;TZID=Europe/Lisbon:20180117T140000
DTEND;TZID=Europe/Lisbon:20180117T150000
DTSTAMP:20260420T150600
CREATED:20250804T212046Z
LAST-MODIFIED:20250804T212046Z
UID:10084403-1516197600-1516201200@passosecompassos.pt
SUMMARY:CLIP CLAP
DESCRIPTION:Dirigido à Comunidade Educativa \n1º Ciclo
URL:https://passosecompassos.pt/data/clip-clap/2018-01-17/
LOCATION:Cine Teatro S. João\, Palmela\, Largo São João Baptista\, Palmela\, 2950-204\, Portugal
CATEGORIES:Semana(s) da Dança 2017
ATTACH;FMTTYPE=image/jpeg:https://passosecompassos.pt/wp-content/uploads/2017/10/ClipClap_ImagemDivulgaçaoWeb_72dpi.jpg
GEO:38.5714422;-8.9020724
X-APPLE-STRUCTURED-LOCATION;VALUE=URI;X-ADDRESS=Cine Teatro S. João Palmela Largo São João Baptista Palmela 2950-204 Portugal;X-APPLE-RADIUS=500;X-TITLE=Largo São João Baptista:geo:-8.9020724,38.5714422
END:VEVENT
BEGIN:VEVENT
DTSTART;TZID=Europe/Lisbon:20180118T140000
DTEND;TZID=Europe/Lisbon:20180118T150000
DTSTAMP:20260420T150600
CREATED:20250804T212046Z
LAST-MODIFIED:20250804T212046Z
UID:10084404-1516284000-1516287600@passosecompassos.pt
SUMMARY:CLIP CLAP
DESCRIPTION:Dirigido à Comunidade Educativa \n1º Ciclo
URL:https://passosecompassos.pt/data/clip-clap/2018-01-18/
LOCATION:Cine Teatro S. João\, Palmela\, Largo São João Baptista\, Palmela\, 2950-204\, Portugal
CATEGORIES:Semana(s) da Dança 2017
ATTACH;FMTTYPE=image/jpeg:https://passosecompassos.pt/wp-content/uploads/2017/10/ClipClap_ImagemDivulgaçaoWeb_72dpi.jpg
GEO:38.5714422;-8.9020724
X-APPLE-STRUCTURED-LOCATION;VALUE=URI;X-ADDRESS=Cine Teatro S. João Palmela Largo São João Baptista Palmela 2950-204 Portugal;X-APPLE-RADIUS=500;X-TITLE=Largo São João Baptista:geo:-8.9020724,38.5714422
END:VEVENT
BEGIN:VEVENT
DTSTART;TZID=Europe/Lisbon:20180119T140000
DTEND;TZID=Europe/Lisbon:20180119T150000
DTSTAMP:20260420T150600
CREATED:20250804T212046Z
LAST-MODIFIED:20250804T212046Z
UID:10084405-1516370400-1516374000@passosecompassos.pt
SUMMARY:CLIP CLAP
DESCRIPTION:Dirigido à Comunidade Educativa \n1º Ciclo
URL:https://passosecompassos.pt/data/clip-clap/2018-01-19/
LOCATION:Cine Teatro S. João\, Palmela\, Largo São João Baptista\, Palmela\, 2950-204\, Portugal
CATEGORIES:Semana(s) da Dança 2017
ATTACH;FMTTYPE=image/jpeg:https://passosecompassos.pt/wp-content/uploads/2017/10/ClipClap_ImagemDivulgaçaoWeb_72dpi.jpg
GEO:38.5714422;-8.9020724
X-APPLE-STRUCTURED-LOCATION;VALUE=URI;X-ADDRESS=Cine Teatro S. João Palmela Largo São João Baptista Palmela 2950-204 Portugal;X-APPLE-RADIUS=500;X-TITLE=Largo São João Baptista:geo:-8.9020724,38.5714422
END:VEVENT
BEGIN:VEVENT
DTSTART;TZID=Europe/Lisbon:20180120T140000
DTEND;TZID=Europe/Lisbon:20180120T150000
DTSTAMP:20260420T150600
CREATED:20250804T212046Z
LAST-MODIFIED:20250804T212046Z
UID:10084406-1516456800-1516460400@passosecompassos.pt
SUMMARY:CLIP CLAP
DESCRIPTION:Dirigido à Comunidade Educativa \n1º Ciclo
URL:https://passosecompassos.pt/data/clip-clap/2018-01-20/
LOCATION:Cine Teatro S. João\, Palmela\, Largo São João Baptista\, Palmela\, 2950-204\, Portugal
CATEGORIES:Semana(s) da Dança 2017
ATTACH;FMTTYPE=image/jpeg:https://passosecompassos.pt/wp-content/uploads/2017/10/ClipClap_ImagemDivulgaçaoWeb_72dpi.jpg
GEO:38.5714422;-8.9020724
X-APPLE-STRUCTURED-LOCATION;VALUE=URI;X-ADDRESS=Cine Teatro S. João Palmela Largo São João Baptista Palmela 2950-204 Portugal;X-APPLE-RADIUS=500;X-TITLE=Largo São João Baptista:geo:-8.9020724,38.5714422
END:VEVENT
BEGIN:VEVENT
DTSTART;TZID=Europe/Lisbon:20180120T160000
DTEND;TZID=Europe/Lisbon:20180120T170000
DTSTAMP:20260420T150600
CREATED:20180104T102657Z
LAST-MODIFIED:20180121T131531Z
UID:10087163-1516464000-1516467600@passosecompassos.pt
SUMMARY:Imágini - Dança e música para bebés
DESCRIPTION:Lotação limitada\, mediante inscrição prévia\nReservas 91 461 69 49 ou do email teatromosca@gmail.com \n1\, 2\, 3 Ação!\nSilêncio\, Luz\, Câmara…\nMinhas Senhoras\, meus senhores e excelentíssimos BEBÉS\, bem vindos!…\nImágini\, é um mundo de imaginação\, ilusão e fantasia\, onde a película se desenrola entre o romance\, a fantasia ou a animação.\nNos bastidores do cinema\, histórias para rir e para chorar ao som do megafone e ao ritmo da claquet.\nRepleto de surpresas e em constante transformação\, Imágini convida-vos… a ver\, ouvir e sentir; Convida-vos a contemplar\, dançar e fazer amigos.\nApreciem\, disfrutem e divirtam-se! \nEm 2016\, a DançArte e a Ária da Música apresentam\, uma vez mais\, uma criação para bebés.\nImágini – dança e música para bebés\, a 8ª produção para este público\, é um espectáculo que oferece a dança\, a música e outras artes\, num contexto pensado ao pormenor\, onde a luz\, o som\, o cenário e a imagem se interligam e criam uma oferta única.\nOs intérpretes\, partilham o espaço com os bebés e os amigos que os acompanham\, apelando à partilha e interação. Com objectivos de criar novos públicos\, desde tenra idade\, a proposta estabelece também hábitos culturais para toda a família. \nFicha Artística \nConcepção artística e espaço cénico: António Machado\, Ricardo Mondim e Sofia Belchior\nCoreografia: Sofia Belchior – colaboração dos interpretes\nComposição musical: António Machado\nAdereços e Bonecos: Ricardo Mondim\nDesenho de luz: António Machado e Sofia Belchior\nFigurinos: Sofia Belchior\nDesign gráfico: Utopia Designers\nDesign Web: João Belchior\nInterpretação: DançArte – Companhia residente no Teatro S. João\, Palmela e Ária da Música\nApresentação: Sofia Belchior e Joana Machado \nProdução: Passos e Compassos / 2016 \nEstrutura apoiada: Município de Palmela\nEstrutura financiada: República Portuguesa/ DGArtes
URL:https://passosecompassos.pt/data/imagini-danca-e-musica-para-bebes-3/
LOCATION:Auditório Municipal António Silva\, Cacém\, Cacém\, Portugal
CATEGORIES:Imágini
ORGANIZER;CN="Teatroamosca":MAILTO:teatromosca@gmail.com
GEO:38.7680374;-9.2987849
END:VEVENT
BEGIN:VEVENT
DTSTART;TZID=Europe/Lisbon:20180121T140000
DTEND;TZID=Europe/Lisbon:20180121T150000
DTSTAMP:20260420T150600
CREATED:20250804T212046Z
LAST-MODIFIED:20250804T212046Z
UID:10084407-1516543200-1516546800@passosecompassos.pt
SUMMARY:CLIP CLAP
DESCRIPTION:Dirigido à Comunidade Educativa \n1º Ciclo
URL:https://passosecompassos.pt/data/clip-clap/2018-01-21/
LOCATION:Cine Teatro S. João\, Palmela\, Largo São João Baptista\, Palmela\, 2950-204\, Portugal
CATEGORIES:Semana(s) da Dança 2017
ATTACH;FMTTYPE=image/jpeg:https://passosecompassos.pt/wp-content/uploads/2017/10/ClipClap_ImagemDivulgaçaoWeb_72dpi.jpg
GEO:38.5714422;-8.9020724
X-APPLE-STRUCTURED-LOCATION;VALUE=URI;X-ADDRESS=Cine Teatro S. João Palmela Largo São João Baptista Palmela 2950-204 Portugal;X-APPLE-RADIUS=500;X-TITLE=Largo São João Baptista:geo:-8.9020724,38.5714422
END:VEVENT
BEGIN:VEVENT
DTSTART;TZID=Europe/Lisbon:20180122T140000
DTEND;TZID=Europe/Lisbon:20180122T150000
DTSTAMP:20260420T150600
CREATED:20250804T212046Z
LAST-MODIFIED:20250804T212046Z
UID:10084408-1516629600-1516633200@passosecompassos.pt
SUMMARY:CLIP CLAP
DESCRIPTION:Dirigido à Comunidade Educativa \n1º Ciclo
URL:https://passosecompassos.pt/data/clip-clap/2018-01-22/
LOCATION:Cine Teatro S. João\, Palmela\, Largo São João Baptista\, Palmela\, 2950-204\, Portugal
CATEGORIES:Semana(s) da Dança 2017
ATTACH;FMTTYPE=image/jpeg:https://passosecompassos.pt/wp-content/uploads/2017/10/ClipClap_ImagemDivulgaçaoWeb_72dpi.jpg
GEO:38.5714422;-8.9020724
X-APPLE-STRUCTURED-LOCATION;VALUE=URI;X-ADDRESS=Cine Teatro S. João Palmela Largo São João Baptista Palmela 2950-204 Portugal;X-APPLE-RADIUS=500;X-TITLE=Largo São João Baptista:geo:-8.9020724,38.5714422
END:VEVENT
BEGIN:VEVENT
DTSTART;TZID=Europe/Lisbon:20180123T140000
DTEND;TZID=Europe/Lisbon:20180123T150000
DTSTAMP:20260420T150600
CREATED:20250804T212046Z
LAST-MODIFIED:20250804T212046Z
UID:10084409-1516716000-1516719600@passosecompassos.pt
SUMMARY:CLIP CLAP
DESCRIPTION:Dirigido à Comunidade Educativa \n1º Ciclo
URL:https://passosecompassos.pt/data/clip-clap/2018-01-23/
LOCATION:Cine Teatro S. João\, Palmela\, Largo São João Baptista\, Palmela\, 2950-204\, Portugal
CATEGORIES:Semana(s) da Dança 2017
ATTACH;FMTTYPE=image/jpeg:https://passosecompassos.pt/wp-content/uploads/2017/10/ClipClap_ImagemDivulgaçaoWeb_72dpi.jpg
GEO:38.5714422;-8.9020724
X-APPLE-STRUCTURED-LOCATION;VALUE=URI;X-ADDRESS=Cine Teatro S. João Palmela Largo São João Baptista Palmela 2950-204 Portugal;X-APPLE-RADIUS=500;X-TITLE=Largo São João Baptista:geo:-8.9020724,38.5714422
END:VEVENT
BEGIN:VEVENT
DTSTART;TZID=Europe/Lisbon:20180124T140000
DTEND;TZID=Europe/Lisbon:20180124T150000
DTSTAMP:20260420T150600
CREATED:20250804T212046Z
LAST-MODIFIED:20250804T212046Z
UID:10084410-1516802400-1516806000@passosecompassos.pt
SUMMARY:CLIP CLAP
DESCRIPTION:Dirigido à Comunidade Educativa \n1º Ciclo
URL:https://passosecompassos.pt/data/clip-clap/2018-01-24/
LOCATION:Cine Teatro S. João\, Palmela\, Largo São João Baptista\, Palmela\, 2950-204\, Portugal
CATEGORIES:Semana(s) da Dança 2017
ATTACH;FMTTYPE=image/jpeg:https://passosecompassos.pt/wp-content/uploads/2017/10/ClipClap_ImagemDivulgaçaoWeb_72dpi.jpg
GEO:38.5714422;-8.9020724
X-APPLE-STRUCTURED-LOCATION;VALUE=URI;X-ADDRESS=Cine Teatro S. João Palmela Largo São João Baptista Palmela 2950-204 Portugal;X-APPLE-RADIUS=500;X-TITLE=Largo São João Baptista:geo:-8.9020724,38.5714422
END:VEVENT
BEGIN:VEVENT
DTSTART;TZID=Europe/Lisbon:20180125T140000
DTEND;TZID=Europe/Lisbon:20180125T150000
DTSTAMP:20260420T150600
CREATED:20250804T212046Z
LAST-MODIFIED:20250804T212046Z
UID:10084411-1516888800-1516892400@passosecompassos.pt
SUMMARY:CLIP CLAP
DESCRIPTION:Dirigido à Comunidade Educativa \n1º Ciclo
URL:https://passosecompassos.pt/data/clip-clap/2018-01-25/
LOCATION:Cine Teatro S. João\, Palmela\, Largo São João Baptista\, Palmela\, 2950-204\, Portugal
CATEGORIES:Semana(s) da Dança 2017
ATTACH;FMTTYPE=image/jpeg:https://passosecompassos.pt/wp-content/uploads/2017/10/ClipClap_ImagemDivulgaçaoWeb_72dpi.jpg
GEO:38.5714422;-8.9020724
X-APPLE-STRUCTURED-LOCATION;VALUE=URI;X-ADDRESS=Cine Teatro S. João Palmela Largo São João Baptista Palmela 2950-204 Portugal;X-APPLE-RADIUS=500;X-TITLE=Largo São João Baptista:geo:-8.9020724,38.5714422
END:VEVENT
BEGIN:VEVENT
DTSTART;TZID=Europe/Lisbon:20180126T140000
DTEND;TZID=Europe/Lisbon:20180126T150000
DTSTAMP:20260420T150600
CREATED:20250804T212046Z
LAST-MODIFIED:20250804T212046Z
UID:10084412-1516975200-1516978800@passosecompassos.pt
SUMMARY:CLIP CLAP
DESCRIPTION:Dirigido à Comunidade Educativa \n1º Ciclo
URL:https://passosecompassos.pt/data/clip-clap/2018-01-26/
LOCATION:Cine Teatro S. João\, Palmela\, Largo São João Baptista\, Palmela\, 2950-204\, Portugal
CATEGORIES:Semana(s) da Dança 2017
ATTACH;FMTTYPE=image/jpeg:https://passosecompassos.pt/wp-content/uploads/2017/10/ClipClap_ImagemDivulgaçaoWeb_72dpi.jpg
GEO:38.5714422;-8.9020724
X-APPLE-STRUCTURED-LOCATION;VALUE=URI;X-ADDRESS=Cine Teatro S. João Palmela Largo São João Baptista Palmela 2950-204 Portugal;X-APPLE-RADIUS=500;X-TITLE=Largo São João Baptista:geo:-8.9020724,38.5714422
END:VEVENT
BEGIN:VEVENT
DTSTART;TZID=Europe/Lisbon:20180126T213000
DTEND;TZID=Europe/Lisbon:20180126T223000
DTSTAMP:20260420T150600
CREATED:20180121T120553Z
LAST-MODIFIED:20180121T153935Z
UID:10087164-1517002200-1517005800@passosecompassos.pt
SUMMARY:QARIB
DESCRIPTION:Todos os dias\, naquele pontão\, um homem olha fixamente em direção ao horizonte…\nEstá revoltado\, triste e não tem ambição. Há muito que o medo lhe roubou o sorriso.\nSentado frente ao mar\, luta diariamente com a sua dualidade emocional e projeta nos outros a solução para os problemas da humanidade.\nAté que um dia…\nInspirado pela brisa do mar\, este homem decide arriscar e percebe que às costas carrega uma mochila…\nCurioso\, abre a mochila e embarca numa viagem ao seu interior. A partir daqui ele torna-se parte integrante de uma sucessão de acontecimentos. Descobre a capacidade de criar e decidir. \n\nCriação\, cenografia e interpretação: Ricardo Mondim\nMúsica: Um Corpo Estranho – Pedro Franco e João Mota\nMúsico convidado/Contrabaixo – Vítor Coimbra\nProdução e masterização: Sérgio Miendez\n\n  \n\nFigurinos e imagem gráfica: Zé Nova\nDesenho de luz e direção técnica: António Machado\nProdução: Sofia Belchior/ Passos e Compassos 2017\nApoio: Câmara Municipal de Palmela
URL:https://passosecompassos.pt/data/qarib/
LOCATION:Fórum Municipal José Manuel Figueiredo\, R. José Vicente\, Baixa da Banheira\, 2835-134\, Portugal
CATEGORIES:QARIB
ATTACH;FMTTYPE=image/jpeg:https://passosecompassos.pt/wp-content/uploads/2018/01/QARIB_GERAL_FB-01.jpg
GEO:38.6609318;-9.0462058
X-APPLE-STRUCTURED-LOCATION;VALUE=URI;X-ADDRESS=Fórum Municipal José Manuel Figueiredo R. José Vicente Baixa da Banheira 2835-134 Portugal;X-APPLE-RADIUS=500;X-TITLE=R. José Vicente:geo:-9.0462058,38.6609318
END:VEVENT
BEGIN:VEVENT
DTSTART;TZID=Europe/Lisbon:20180127T140000
DTEND;TZID=Europe/Lisbon:20180127T150000
DTSTAMP:20260420T150600
CREATED:20250804T212046Z
LAST-MODIFIED:20250804T212046Z
UID:10084413-1517061600-1517065200@passosecompassos.pt
SUMMARY:CLIP CLAP
DESCRIPTION:Dirigido à Comunidade Educativa \n1º Ciclo
URL:https://passosecompassos.pt/data/clip-clap/2018-01-27/
LOCATION:Cine Teatro S. João\, Palmela\, Largo São João Baptista\, Palmela\, 2950-204\, Portugal
CATEGORIES:Semana(s) da Dança 2017
ATTACH;FMTTYPE=image/jpeg:https://passosecompassos.pt/wp-content/uploads/2017/10/ClipClap_ImagemDivulgaçaoWeb_72dpi.jpg
GEO:38.5714422;-8.9020724
X-APPLE-STRUCTURED-LOCATION;VALUE=URI;X-ADDRESS=Cine Teatro S. João Palmela Largo São João Baptista Palmela 2950-204 Portugal;X-APPLE-RADIUS=500;X-TITLE=Largo São João Baptista:geo:-8.9020724,38.5714422
END:VEVENT
BEGIN:VEVENT
DTSTART;TZID=Europe/Lisbon:20180128T140000
DTEND;TZID=Europe/Lisbon:20180128T150000
DTSTAMP:20260420T150600
CREATED:20250804T212046Z
LAST-MODIFIED:20250804T212046Z
UID:10084414-1517148000-1517151600@passosecompassos.pt
SUMMARY:CLIP CLAP
DESCRIPTION:Dirigido à Comunidade Educativa \n1º Ciclo
URL:https://passosecompassos.pt/data/clip-clap/2018-01-28/
LOCATION:Cine Teatro S. João\, Palmela\, Largo São João Baptista\, Palmela\, 2950-204\, Portugal
CATEGORIES:Semana(s) da Dança 2017
ATTACH;FMTTYPE=image/jpeg:https://passosecompassos.pt/wp-content/uploads/2017/10/ClipClap_ImagemDivulgaçaoWeb_72dpi.jpg
GEO:38.5714422;-8.9020724
X-APPLE-STRUCTURED-LOCATION;VALUE=URI;X-ADDRESS=Cine Teatro S. João Palmela Largo São João Baptista Palmela 2950-204 Portugal;X-APPLE-RADIUS=500;X-TITLE=Largo São João Baptista:geo:-8.9020724,38.5714422
END:VEVENT
END:VCALENDAR